{
 "currentVersion": 10.31,
 "serviceDescription": "otobushat",
 "mapName": "Layers",
 "description": "",
 "copyrightText": "otobushat",
 "supportsDynamicLayers": true,
 "layers": [
  {
   "id": 0,
   "name": "hatyon",
   "parentLayerId": -1,
   "defaultVisibility": true,
   "subLayerIds": null,
   "minScale": 0,
   "maxScale": 0
  }
 ],
 "tables": [],
 "spatialReference": {
  "wkid": 102100,
  "latestWkid": 3857
 },
 "singleFusedMapCache": true,
 "tileInfo": {
  "rows": 256,
  "cols": 256,
  "dpi": 96,
  "format": "PNG",
  "compressionQuality": 0,
  "origin": {
   "x": -20037700,
   "y": 30241100
  },
  "spatialReference": {
   "wkid": 102100,
   "latestWkid": 3857
  },
  "lods": [
   {
    "level": 0,
    "resolution": 198.43789687579377,
    "scale": 750000
   },
   {
    "level": 1,
    "resolution": 66.1459656252646,
    "scale": 250000
   },
   {
    "level": 2,
    "resolution": 26.458386250105836,
    "scale": 100000
   },
   {
    "level": 3,
    "resolution": 13.229193125052918,
    "scale": 50000
   },
   {
    "level": 4,
    "resolution": 6.614596562526459,
    "scale": 25000
   },
   {
    "level": 5,
    "resolution": 3.9687579375158752,
    "scale": 15000
   },
   {
    "level": 6,
    "resolution": 2.6458386250105836,
    "scale": 10000
   },
   {
    "level": 7,
    "resolution": 1.3229193125052918,
    "scale": 5000
   },
   {
    "level": 8,
    "resolution": 0.5291677250021167,
    "scale": 2000
   },
   {
    "level": 9,
    "resolution": 0.26458386250105836,
    "scale": 1000
   }
  ]
 },
 "initialExtent": {
  "xmin": 3225070.3297394104,
  "ymin": 4547254.143899437,
  "xmax": 3251346.8145840466,
  "ymax": 4557093.356286194,
  "spatialReference": {
   "cs": "pcs",
   "wkid": 102100
  }
 },
 "fullExtent": {
  "xmin": 3223865.609477315,
  "ymin": 4534503.818106224,
  "xmax": 3253315.5103404345,
  "ymax": 4568284.196939262,
  "spatialReference": {
   "cs": "pcs",
   "wkid": 102100
  }
 },
 "minScale": 750000,
 "maxScale": 1000,
 "units": "esriMeters",
 "supportedImageFormatTypes": "PNG32,PNG24,PNG,JPG,DIB,TIFF,EMF,PS,PDF,GIF,SVG,SVGZ,BMP",
 "documentInfo": {
  "Title": "",
  "Author": "",
  "Comments": "",
  "Subject": "",
  "Category": "",
  "AntialiasingMode": "None",
  "TextAntialiasingMode": "Force",
  "Keywords": "otobushat"
 },
 "capabilities": "Map,Query,Data",
 "supportedQueryFormats": "JSON, AMF",
 "exportTilesAllowed": false,
 "maxRecordCount": 1000,
 "maxImageHeight": 4096,
 "maxImageWidth": 4096,
 "supportedExtensions": ""
}